BEGIN:VCALENDAR
VERSION:2.0
PRODID:-//ملتقى الاتحادات العربية النوعية المتخصصة - ECPv6.2.9//NONSGML v1.0//EN
CALSCALE:GREGORIAN
METHOD:PUBLISH
X-ORIGINAL-URL:https://saffportal.org
X-WR-CALDESC:Events for ملتقى الاتحادات العربية النوعية المتخصصة
REFRESH-INTERVAL;VALUE=DURATION:PT1H
X-Robots-Tag:noindex
X-PUBLISHED-TTL:PT1H
BEGIN:VTIMEZONE
TZID:UTC
BEGIN:STANDARD
TZOFFSETFROM:+0000
TZOFFSETTO:+0000
TZNAME:UTC
DTSTART:20220101T000000
END:STANDARD
END:VTIMEZONE
BEGIN:VEVENT
DTSTART;TZID=UTC:20221112T100000
DTEND;TZID=UTC:20221114T170000
DTSTAMP:20260421T093034
CREATED:20221021T150901Z
LAST-MODIFIED:20221021T152628Z
UID:2466-1668247200-1668445200@saffportal.org
SUMMARY:المؤتمر والمعرض العربي الدولي للصناعات الصغيرة والمتوسطة (SMEX Algeria 2022)
DESCRIPTION:ينظم الإتحاد العربي لتنمية الصادرات الصناعية (AUIED) والشركة الجزائرية للمعارض والتصدير (SAFEX) التابعة لوزارة التجارة الجزائرية يقومان بتنظيم “المؤتمر والمعرض العربي الدولي للصناعات الصغيرة والمتوسطة (SMEX Algeria 2022) “، خلال الفترة 12-14 نوفمبر 2022 بقصر المعارض بالجزائر، تحت شعار “فرص وتحديات الثورة الصناعية الرابعة”، برعاية كريمة من دولة رئيس الوزراء لجمهورية الجزائر الديموقراطية الشعبية وجامعة الدول العربية. \nيشارك في المؤتمر رواد أعمال وأصحاب المؤسسات الصغيرة والمتوسطة وخبراء الاقتصاد والاستثمار وصانعي السياسات من كافة الدول حول العالم لاستعراض تجاربهم وقصص نجاحهم، مع تسليط الضوء على احتياجات المشروعات الصغيرة حول العالم وسبل تلبية تلك الاحتياجات، كما تشارك في المؤتمر هيئات تنمية المشروعات الصغيرة والمتوسطة العربية والافريقية، بهدف خلق تواصل بين نخبة من رواد الأعمال الجزائريين والعرب والافارقة في القطاعات الرئيسية بهدف تنمية وتعزيز فرص التجارة والاستثمار بين الدول العربية والأفريقية ودول العالم. \nيصاحب المؤتمر معرض عن منتجات المؤسسات الصغيرة والمتوسطة العربية والأفريقية والمناولة والشراكة الصناعية وتكنولوجيا التصنيع الذكي من دول العالم المتقدمة، بهدف دعم تنافسية المنتجات والخدمات العربية والأفريقية وربطها بسلاسل القيمة العالمية، ومساعدتها على دخول أسواق جديدة.
URL:https://saffportal.org/event/%d8%a7%d9%84%d9%85%d8%a4%d8%aa%d9%85%d8%b1-%d9%88%d8%a7%d9%84%d9%85%d8%b9%d8%b1%d8%b6-%d8%a7%d9%84%d8%b9%d8%b1%d8%a8%d9%8a-%d8%a7%d9%84%d8%af%d9%88%d9%84%d9%8a-%d9%84%d9%84%d8%b5%d9%86%d8%a7%d8%b9/
LOCATION:قصر المعارض\, الجزائر\, Algeria
CATEGORIES:مؤتمر ومعرض
ATTACH;FMTTYPE=image/jpeg:https://saffportal.org/wp-content/uploads/2022/10/قصر-المعارض.jpg
END:VEVENT
END:VCALENDAR